BEGIN:VCALENDAR
METHOD:PUBLISH
VERSION:2.0
PRODID:-//Eventilla iCal Syndication//NONSGML Liana//EN
BEGIN:VEVENT
UID:edr7Z@eventilla.com
DTSTAMP:20250610T100000Z
DTSTART:20250610T100000Z
DTEND:20250610T113000Z
SUMMARY:Yrityksen hallittu lopettaminen
DESCRIPTION:Varustamo-webinaarisarjasta saat tietoa omistajanvaihdoksesta\, helposti hyödynnettäviä vinkkejä sekä tärkeitä työkaluja yrityskaupan suunnitteluun\, valmistautumiseen ja toteutukseen.
LOCATION:Webinaari
URL:http://tapahtumat.kinno.fi/event/edr7Z
END:VEVENT
END:VCALENDAR
