BEGIN:VCALENDAR
METHOD:PUBLISH
VERSION:2.0
PRODID:-//Eventilla iCal Syndication//NONSGML Liana//EN
BEGIN:VEVENT
UID:Z70Qq@eventilla.com
DTSTAMP:20251014T100000Z
DTSTART:20251014T100000Z
DTEND:20251014T113000Z
SUMMARY:Yrityksen sopimukset
DESCRIPTION:Varustamo-webinaarisarjasta saat tietoa omistajanvaihdoksesta\, helposti hyödynnettäviä vinkkejä sekä tärkeitä työkaluja yrityskaupan suunnitteluun\, valmistautumiseen ja toteutukseen.
LOCATION:Webinaari
URL:http://tapahtumat.kinno.fi/event/Z70Qq
END:VEVENT
END:VCALENDAR
