BEGIN:VCALENDAR
METHOD:PUBLISH
VERSION:2.0
PRODID:-//Eventilla iCal Syndication//NONSGML Liana//EN
BEGIN:VEVENT
UID:NP96p@eventilla.com
DTSTAMP:20250911T100000Z
DTSTART:20250911T100000Z
DTEND:20250911T140000Z
SUMMARY:Selusta 2025
DESCRIPTION:Selusta avaa puolustus- ja turvallisuussektorin tuomia mahdollisuuksia kaakkoissuomalaisille yrityksille.
LOCATION:Kohoa Synergiakeskus\, Kauppalankatu 13\, 45100\, Kouvola
URL:http://tapahtumat.kinno.fi/selusta2025
END:VEVENT
END:VCALENDAR
