BEGIN:VCALENDAR
METHOD:PUBLISH
VERSION:2.0
PRODID:-//Eventilla iCal Syndication//NONSGML Liana//EN
BEGIN:VEVENT
UID:M0DyB@eventilla.com
DTSTAMP:20240618T060000Z
DTSTART:20240618T060000Z
DTEND:20240618T073000Z
SUMMARY:Markkinavuoropuhelu Kinnon talous- ja palkkahallinnon palveluista 18.6.
DESCRIPTION:Tervetuloa  markkinavuoropuhelutilaisuuteen\ntiistaina 18.6.2024 klo 9.00 – 10.30Kouvola Innovation Oy\, Kohoa Synergiakeskus(os. Kauppalankatu 13\, katutaso)\nkeskustelemaan  Kinnon talous- ja palkkahallinnon palvelujen tulevasta kilpailutuksesta.\nTulevan kilpailutuksen tavoitteena on hankkia 1.1.2025 alkaen palveluna ratkaisu\, jossa palveluntuottaja tarjoaa kokonaisvaltaisesti talous- ja palkkahallinnon palvelut Kouvola Innovation Oy:lle (Kinno) sekä sen tytäryhtiölle Kouvolan yritystilat Oy:lle ja RRT Kouvola Oy:lle.\nTarjouspyyntöluonnoksesta sekä palveluun sisältyvistä tehtävistä ja vastuunjaosta keskustellaan tarkemmin markkinavuoropuhelutilaisuudessa.\nTulevaa hankintaa tilaisuudessa esittelee Kinnon talouspäällikkö Hanna Korjala. Mukana keskusteluissa on Kinnon hankinta-asiamies Marita Melkko.\nIlmoittautumisia pyydetään 17.6. klo 15 mennessä.\n \nLisätietoja:\nMarita Melkko\, hankinta-asiamiesmarita.melkko@kinno.fi+358 20 615 5039+358 40 489 9299
LOCATION:Kouvola Innovation, Kohoa Synergiakeskus\, Kauppalankatu 13\,
 45100\, Kouvola
URL:http://tapahtumat.kinno.fi/event/M0DyB
END:VEVENT
END:VCALENDAR
