BEGIN:VCALENDAR
METHOD:PUBLISH
VERSION:2.0
PRODID:-//Eventilla iCal Syndication//NONSGML Liana//EN
BEGIN:VEVENT
UID:JB8MW@eventilla.com
DTSTAMP:20230418T060000Z
DTSTART:20230418T060000Z
DTEND:20230418T090000Z
SUMMARY:Markkinayhteistyöseminaari 18.4.
DESCRIPTION:TERVETULOA MARKKINAYHTEISTYÖSEMINAARIIN 18.4.\nTalonrakennusteollisuus ry on rakentanut yhdessä alueen suurimpien julkisten hankintayksiköiden kanssa toimintatapaa\, jolla voidaan ennakolta käsitellä rakennusmarkkinoiden toimivuutta haittaavia tekijöitä ja edesauttaa kilpailun toteutumista. Tähän tarkoitukseen on käynnistetty markkinayhteistyöseminaari. Seminaari on tarkoitettu julkisille hankintayksiköille ja heitä palveleville talonrakennustoimialan yrityksille (konsultit\, urakoitsijat).\nOhjelma\n09:00 – 09:40Yhteistoiminnallisten toteutusmuotojen piirteiden liittäminen perinteiseen YSE:n pohjautuvan toteutukseen- Alustukset- Yleisökeskustelu\n09:40 – 10:00 Kahvi\n10:00 – 10:40Tulevien vuosien investointisuunnitelmatJulkisten hankintayksiköiden investointisuunnitelmat ja hankkeisiin suunnitellut toteutusmallit\n10:40 - 11:00 Kahvi\n11:00 – 12:00Vuoropuhelu investointisuunnitelmistaKeskustelun pääfokukset ovat hankinta- ja sopimusmallit sekä hankintakriteerit\nIlmoittautuminen 16.4. mennessä.
LOCATION:Kouvolan kaupungintalo, juhlasali\, Torikatu 10\, 45100\, Kouvola
URL:http://tapahtumat.kinno.fi/markkinayhteistyoseminaari
END:VEVENT
END:VCALENDAR
