BEGIN:VCALENDAR
METHOD:PUBLISH
VERSION:2.0
PRODID:-//Eventilla iCal Syndication//NONSGML Liana//EN
BEGIN:VEVENT
UID:Gw0QO@eventilla.com
DTSTAMP:20251209T110000Z
DTSTART:20251209T110000Z
DTEND:20251209T123000Z
SUMMARY:Verotus omistajanvaihdostilanteessa
DESCRIPTION:Varustamo-webinaarisarjasta saat tietoa omistajanvaihdoksesta\, helposti hyödynnettäviä vinkkejä sekä tärkeitä työkaluja yrityskaupan suunnitteluun\, valmistautumiseen ja toteutukseen.
LOCATION:
URL:http://tapahtumat.kinno.fi/verotus-omistajanvaihdostilanteessa
END:VEVENT
END:VCALENDAR
