BEGIN:VCALENDAR
METHOD:PUBLISH
VERSION:2.0
PRODID:-//Eventilla iCal Syndication//NONSGML Liana//EN
BEGIN:VEVENT
UID:9qb9R@eventilla.com
DTSTAMP:20251111T110000Z
DTSTART:20251111T110000Z
DTEND:20251111T123000Z
SUMMARY:Yrityksen sukupolvenvaihdos
DESCRIPTION:Varustamo-webinaarisarjasta saat tietoa omistajanvaihdoksesta\, helposti hyödynnettäviä vinkkejä sekä tärkeitä työkaluja yrityskaupan suunnitteluun\, valmistautumiseen ja toteutukseen.
LOCATION:Webinaari
URL:http://tapahtumat.kinno.fi/yrityksen-sukupolvenvaihdos
END:VEVENT
END:VCALENDAR
