BEGIN:VCALENDAR
METHOD:PUBLISH
VERSION:2.0
PRODID:-//Eventilla iCal Syndication//NONSGML Liana//EN
BEGIN:VEVENT
UID:5dyNw@eventilla.com
DTSTAMP:20250415T100000Z
DTSTART:20250415T100000Z
DTEND:20250415T113000Z
SUMMARY:Yritys myyntikuntoon
DESCRIPTION:Varustamo-webinaarisarjasta saat tietoa omistajanvaihdoksesta\, helposti hyödynnettäviä vinkkejä sekä tärkeitä työkaluja yrityskaupan suunnitteluun\, valmistautumiseen ja toteutukseen.
LOCATION:Hybridi: Teams / Kohoa Synergiakeskus\, Kauppalankatu 13\,
 45100\, Kouvola\, Suomi
URL:http://tapahtumat.kinno.fi/event/5dyNw
END:VEVENT
END:VCALENDAR
